BEGIN:VCALENDAR
VERSION:2.0
PRODID:-//hacksw/handcal//NONSGML v1.0//EN
CALSCALE:GREGORIAN
BEGIN:VEVENT
DTEND:20190316T003000Z
UID: 69e895e8bf92c
DTSTAMP:20260422T043328Z
LOCATION:
DESCRIPTION:This variety show&nbsp\;will include selections from 1930s and 1940s musicals:&nbsp\;"Roberta\," "Boys from Syracuse\," "Babes in Arms\," "Carousel\," "Kiss Me Kate"&nbsp\;and Finian's Rainbow" as the closing scene in honor of St. Patrick's Day. The overall theme comes from "The Early American Song Book."\n
URL;VALUE=URI:https://www.augustana.edu/about-us/events/2018/opera-scenes-great-american-songbook
SUMMARY:Opera scenes: The Great American Songbook
DTSTART:20190316T003000Z
END:VEVENT
END:VCALENDAR
