BEGIN:VCALENDAR
VERSION:2.0
PRODID:-//hacksw/handcal//NONSGML v1.0//EN
CALSCALE:GREGORIAN
BEGIN:VEVENT
DTEND:20170222T010000Z
UID: 69e93c7a7098a
DTSTAMP:20260422T162410Z
LOCATION:Carver P.E. Center
DESCRIPTION:The Augustana Vikings will take on the North Central Cardinals in their last home game of the regular season.&nbsp\;\n\nFans can see the game online and view live stats.\n
URL;VALUE=URI:https://www.augustana.edu/about-us/events/2016/womens-basketball-vs-north-central
SUMMARY:Women's basketball vs. North Central
DTSTART:20170222T010000Z
END:VEVENT
END:VCALENDAR
