BEGIN:VCALENDAR
VERSION:2.0
PRODID:-//hacksw/handcal//NONSGML v1.0//EN
CALSCALE:GREGORIAN
BEGIN:VEVENT
DTEND:20170212T020000Z
UID: 69e93d4f65adc
DTSTAMP:20260422T162743Z
LOCATION:Centennial Hall
DESCRIPTION:The Augustana Symphony Orchestra will perform its winter concert\,&nbsp\;&nbsp\;"Through the Forest."\n\nThe program will include the prelude to the opera "Hansel and Gretel" by&nbsp\;Engelbert Humperdinck\;&nbsp\;"The Moldau" from "My Country" by&nbsp\;Czech composer&nbsp\;Bedřich Smetana\; and&nbsp\;Antonín Dvořák's "The Golden Spinning Wheel."\n\nSee details and a description of the program\n
URL;VALUE=URI:https://www.augustana.edu/about-us/events/2016/augustana-symphony-orchestra-through-forest
SUMMARY:Augustana Symphony Orchestra: "Through the Forest"
DTSTART:20170212T020000Z
END:VEVENT
END:VCALENDAR
