BEGIN:VCALENDAR
VERSION:2.0
PRODID:-//hacksw/handcal//NONSGML v1.0//EN
CALSCALE:GREGORIAN
BEGIN:VEVENT
DTEND:20170209T020000Z
UID: 69e93c4f8c837
DTSTAMP:20260422T162327Z
LOCATION:
DESCRIPTION:Two of Augustana's small jazz combos perform. The first will play selections&nbsp\;from composer Thelonious Monk and a &nbsp\;Benny Goodman classic "Mission to Moscow."\n\nThe second combo will focus on the music from "West Side Story."&nbsp\;All students in the combos will be soloists.\n
URL;VALUE=URI:https://www.augustana.edu/about-us/events/2016/jazz-combos-concert-0
SUMMARY:Jazz Combos Concert
DTSTART:20170209T020000Z
END:VEVENT
END:VCALENDAR
