BEGIN:VCALENDAR
VERSION:2.0
PRODID:-//hacksw/handcal//NONSGML v1.0//EN
CALSCALE:GREGORIAN
BEGIN:VEVENT
DTEND:20170204T020000Z
UID: 69e93ca462258
DTSTAMP:20260422T162452Z
LOCATION:Centennial Hall
DESCRIPTION:Augustana's Jazz Ensemble will perform their winter concert.\n
URL;VALUE=URI:https://www.augustana.edu/about-us/events/2016/augustana-jazz-ensemble-concert
SUMMARY:Augustana Jazz Ensemble Concert
DTSTART:20170204T020000Z
END:VEVENT
END:VCALENDAR
