BEGIN:VCALENDAR
VERSION:2.0
PRODID:-//hacksw/handcal//NONSGML v1.0//EN
CALSCALE:GREGORIAN
BEGIN:VEVENT
DTEND:20170303T233000Z
UID: 69e93ccda824e
DTSTAMP:20260422T162533Z
LOCATION:
DESCRIPTION:The Augustana Vikings will take on defending national champion St. Thomas in the first round of the NCAA Division III tournament.\n\nThe winner will play the winner of the UW-Whitewater vs. Northwestern winner on Saturday.\n\nThe Vikings will be making their fourth consecutive Division III tournament appearance.\n
URL;VALUE=URI:https://www.augustana.edu/about-us/events/2016/mens-diii-basketball-tournament-augustana-vs-st-thomas
SUMMARY:Men's DIII basketball tournament: Augustana vs. St. Thomas
DTSTART:20170303T233000Z
END:VEVENT
END:VCALENDAR
