BEGIN:VCALENDAR
VERSION:2.0
PRODID:-//hacksw/handcal//NONSGML v1.0//EN
CALSCALE:GREGORIAN
BEGIN:VEVENT
DTEND:20170201T020000Z
UID: 69e93c57a4368
DTSTAMP:20260422T162335Z
LOCATION:Denkmann Memorial Building
DESCRIPTION:Baritone Stephen Swanson and pianist Ann DuHamel will perform "Winterreise" (Winter Journey)\, a song cycle for voice and piano by Franz Schubert.\n\nSwanson is a concert and opera singer\, a teacher of singing\, and opera stage director. He earned degrees from North Park College and Northwestern University. In 1994 he joined the voice faculty at the University of Iowa and has since become an active recitalist.&nbsp\;\n\nDuHamel is an assistant professor at Iowa. She has a DMA from Iowa in piano performance and pedagogy\, a master's from the University of Notre Dame and B.A. from the&nbsp\;College of St. Benedict/St. John’s University.&nbsp\;\n
URL;VALUE=URI:https://www.augustana.edu/about-us/events/2016/guest-recital-winterreise
SUMMARY:Guest recital: "Winterreise"
DTSTART:20170201T020000Z
END:VEVENT
END:VCALENDAR
