BEGIN:VCALENDAR
VERSION:2.0
PRODID:-//hacksw/handcal//NONSGML v1.0//EN
CALSCALE:GREGORIAN
BEGIN:VEVENT
DTEND:20181128T010000Z
UID: 69e8b7e50138e
DTSTAMP:20260422T065829Z
LOCATION:Denkmann Memorial Building
DESCRIPTION:"Becoming Astrid" tells the story of Swedish writer Astrid Lindgren\, the author of many children's books and creator of Pippi Longstocking.\n\nThe 2018 film runs just over 2 hours.\n\nFilmmakers' synopsis: "When Astrid Lindgren was still quite young\, an event occurred which affected her on a fundamental level\, granting her an in-depth insight into children's souls. This very incident convinced her to break with the norms\, the religious and societal expectations of the day\, and transformed her into a storyteller\, one of the most innovative women of our time."\n
URL;VALUE=URI:https://www.augustana.edu/about-us/events/2018/scandinavian-film-night-becoming-astrid
SUMMARY:Scandinavian Film Night: "Becoming Astrid"
DTSTART:20181128T010000Z
END:VEVENT
END:VCALENDAR
