BEGIN:VCALENDAR
VERSION:2.0
PRODID:-//hacksw/handcal//NONSGML v1.0//EN
CALSCALE:GREGORIAN
BEGIN:VEVENT
DTEND:20170126T010000Z
UID: 69e93d25e6d73
DTSTAMP:20260422T162701Z
LOCATION:Carver P.E. Center
DESCRIPTION:The Augustana Vikings will take on the Elmhurst Bluejays.&nbsp\;\n\nFans can&nbsp\;see the game online and view live stats.\n\nWebsite: http://www.athletics.augustana.edu/index.aspx?path=mbball\n
URL;VALUE=URI:https://www.augustana.edu/about-us/events/2016/mens-basketball-vs-elmhurst
SUMMARY:Men's basketball vs. Elmhurst
DTSTART:20170126T010000Z
END:VEVENT
END:VCALENDAR
