BEGIN:VCALENDAR
VERSION:2.0
PRODID:-//hacksw/handcal//NONSGML v1.0//EN
CALSCALE:GREGORIAN
BEGIN:VEVENT
DTEND:20180927T000000Z
UID: 69e89e04a4a13
DTSTAMP:20260422T050804Z
LOCATION:Hanson Hall of Science
DESCRIPTION:The American Chemical Society Quad Cities and Augustana Chemistry Club will present an evening for students interested in careers in&nbsp\;the chemical sciences.\n\nLocal chemists will present&nbsp\;information about careers.\n
URL;VALUE=URI:https://www.augustana.edu/about-us/events/2018/careers-chemistry
SUMMARY:Careers in Chemistry
DTSTART:20180927T000000Z
END:VEVENT
END:VCALENDAR
