BEGIN:VCALENDAR
VERSION:2.0
PRODID:-//hacksw/handcal//NONSGML v1.0//EN
CALSCALE:GREGORIAN
BEGIN:VEVENT
DTEND:20180919T233000Z
UID: 69e8eee30fd2d
DTSTAMP:20260422T105307Z
LOCATION:Olin Center for Educational Technology
DESCRIPTION:The Multicultural Programming Board is holding Ted Talk Night this Wednesday. This month\, they will be focusing on Hispanic Heritage Month where Drs. Lovato\, Pomales\, and Navarro will be guest speaking along with two Ted Talks.\n\nThere will also be free empanadas on a first come\, first serve basis.&nbsp\;\n
URL;VALUE=URI:https://www.augustana.edu/about-us/events/2018/ted-talk-hispanic-heritage-month
SUMMARY:TED Talk: Hispanic Heritage Month
DTSTART:20180919T233000Z
END:VEVENT
END:VCALENDAR
