BEGIN:VCALENDAR
VERSION:2.0
PRODID:-//hacksw/handcal//NONSGML v1.0//EN
CALSCALE:GREGORIAN
BEGIN:VEVENT
DTEND:20181006T150000Z
UID: 69e8a1c869fd0
DTSTAMP:20260422T052408Z
LOCATION:Denkmann Memorial Building
DESCRIPTION:What hidden treasures exist at the libraries\, archives\, and museums of the Quad Cities? Join cultural and historical organizations on Saturday\, October 6 to learn more about their collections and services.\n\nVisit three host sites across the Quad Cities to learn about over 15 organizations. Take behind-the-scenes tours\, listen to talks on historical events\, peoples\, and places\, and learn about the area’s trove of historical gems. \n\nSchedule of talks now available here!\n\nStart your crawl at any of these locations:\n\n\n	Swenson Swedish Immigration Research Center\, Denkmann Building\, Augustana College\, 3520 7th Ave\, Rock Island\, IL 61201\n	Richardson-Sloane Special Collections Center\, Davenport Public Library\, Main Branch\, 321 N Main Street\, Davenport\, IA 52801\n	St. Ambrose University\, Library\, 518 W. Locust St\, Davenport\, IA 52803\n\n\nFree and open to the public.\n\nTake a free shuttle bus between locations!\n\nThe libraries\, archives\, and museums of the Quad Cities celebrate the history and the materials&nbsp\;created by those who first settled this part of the Upper Mississippi Valley as well as its present-day citizens. Enjoy the opportunity to take part in this mini-exploration of the Quad Cities region through the unique collections and materials found here.\n\nMore information.&nbsp\;\n
URL;VALUE=URI:https://www.augustana.edu/about-us/events/2018/quad-cities-archives-crawl-2018
SUMMARY:Quad Cities Archives Crawl 2018
DTSTART:20181006T150000Z
END:VEVENT
END:VCALENDAR
