BEGIN:VCALENDAR
VERSION:2.0
PRODID:-//hacksw/handcal//NONSGML v1.0//EN
CALSCALE:GREGORIAN
BEGIN:VEVENT
DTEND:20180907T210000Z
UID: 69e8b20064112
DTSTAMP:20260422T063320Z
LOCATION:The Gerber Center for Student Life
DESCRIPTION:Augustana student groups in the sciences will host&nbsp\;Augustana Science Night\, an event for all ages with food\, activities and demonstrations.\n\nThe event will run from 4-7 p.m.\n
URL;VALUE=URI:https://www.augustana.edu/about-us/events/2018/augustana-science-night
SUMMARY:Augustana Science Night
DTSTART:20180907T210000Z
END:VEVENT
END:VCALENDAR
