BEGIN:VCALENDAR
VERSION:2.0
PRODID:-//hacksw/handcal//NONSGML v1.0//EN
CALSCALE:GREGORIAN
BEGIN:VEVENT
DTEND:20190327T003000Z
UID: 69e8b753dcdb5
DTSTAMP:20260422T065603Z
LOCATION:Denkmann Memorial Building
DESCRIPTION:Pianist Juliana Han will perform with guest violinist Wayne Lee.&nbsp\;\n\nDr Han is an&nbsp\;assistant professor of music at Augustana. Lee is a lecturer in violin at the University of Illinois\,&nbsp\;Urbana-Champaign..\n\nThe program will include Stravinsky's Suite Italienne\, Mozart Violin Sonata K. 377\, and a&nbsp\;Violin Sonata by Francis Poulenc.\n\nProgram\n\nSuite Italienne — Igor Stravinsky\nIntroduzione (1882-1971)\nSerenata\nTarantella\nGavotta con due Variazioni\nScherzino\nMinuetto e Finale\n\nViolin Sonata in F major\, K. 377 — Wolfgang Amadeus Mozart\nI. Allegro (1756-1791)\nII. Thema con variazioni. Andante\nIII. Tempo di menuetto\n\nViolin Sonata\, FP 119 — Francis Poulenc\nI. Allegro con fuoco (1899-1963)\nII. Intermezzo\nIII. Presto tragico\n
URL;VALUE=URI:https://www.augustana.edu/about-us/events/2018/faculty-recital-juliana-han-piano-wayne-lee-violin
SUMMARY:Faculty recital: Juliana Han\, piano\, Wayne Lee\, violin
DTSTART:20190327T003000Z
END:VEVENT
END:VCALENDAR
