BEGIN:VCALENDAR
VERSION:2.0
PRODID:-//hacksw/handcal//NONSGML v1.0//EN
CALSCALE:GREGORIAN
BEGIN:VEVENT
DTEND:20181209T200000Z
UID: 69e8a0dade28b
DTSTAMP:20260422T052010Z
LOCATION:Centennial Hall
DESCRIPTION:Pianist Juliana Han\, assistant professor of music\, will perform a recital\, "The Wind-Up Bird and Other Preludes."&nbsp\;&nbsp\;The recital will feature the works of Couperin\, Ravel\, Messiaen\, Ryan Anthony Francis&nbsp\;and Rachmaninoff.\n\nPreviously adjunct faculty at the Juilliard School\, Dr. Han&nbsp\;teaches applied piano and courses in musicianship at Augustana.\n
URL;VALUE=URI:https://www.augustana.edu/about-us/events/2018/faculty-recital-juliana-han-piano
SUMMARY:Faculty recital: Juliana Han\, piano
DTSTART:20181209T200000Z
END:VEVENT
END:VCALENDAR
