BEGIN:VCALENDAR
VERSION:2.0
PRODID:-//hacksw/handcal//NONSGML v1.0//EN
CALSCALE:GREGORIAN
BEGIN:VEVENT
DTEND:20181001T233000Z
UID: 69e89dd707252
DTSTAMP:20260422T050719Z
LOCATION:Centennial Hall
DESCRIPTION:Artists participating in the current exhibition&nbsp\;"Five Alumni: Continuing to Create"&nbsp\;at the Augustana Teaching Museum of Art&nbsp\;will hold a roundtable discussion about how they navigate their careers as working artists.\n\nThere will be a reception at 6:30\, followed by the hour-long roundtable at 7 p.m.&nbsp\;\n\nThe exhibition runs through Oct. 27\,&nbsp\;featuring recent work by five alumni artists invited by the art department. The artists are Audrey Brown ‘92\, Mark Hansen ‘00\, justin carl hurty ‘05\, Drew Starenko ‘83\, and John Vande Walle ‘06.\n
URL;VALUE=URI:https://www.augustana.edu/about-us/events/2018/five-alumni-continuing-create-roundtable
SUMMARY:'Five Alumni: Continuing to Create' roundtable
DTSTART:20181001T233000Z
END:VEVENT
END:VCALENDAR
