BEGIN:VCALENDAR
VERSION:2.0
PRODID:-//hacksw/handcal//NONSGML v1.0//EN
CALSCALE:GREGORIAN
BEGIN:VEVENT
DTEND:20180908T000000Z
UID: 69e8a099e6785
DTSTAMP:20260422T051905Z
LOCATION:The River's Edge
DESCRIPTION:The Augustana men's hockey team will play against&nbsp\;Marquette University in the first match of the season. Parking and admission are free.\n\nAugustana is a member of the American Collegiate Hockey Association\, which has five men's and women's divisions and more than 500 teams across the nation. All ACHA teams are members of USA Hockey and the American Hockey Coaches Association.\n\n&nbsp\;\n
URL;VALUE=URI:https://www.augustana.edu/about-us/events/2018/mens-hockey-vs-marquette
SUMMARY:Men's hockey vs. Marquette
DTSTART:20180908T000000Z
END:VEVENT
END:VCALENDAR
