BEGIN:VCALENDAR
VERSION:2.0
PRODID:-//hacksw/handcal//NONSGML v1.0//EN
CALSCALE:GREGORIAN
BEGIN:VEVENT
DTEND:20180921T003000Z
UID: 69e89da0e5bf2
DTSTAMP:20260422T050624Z
LOCATION:Olin Center for Educational Technology
DESCRIPTION:Nicole G. Kelly\, an advocate for people with disabilities\, will present "Being Disabled Does Not Mean Being Unable!" Her lecture\, in part\, is based on her own experience of having a disability.&nbsp\;\n\nKelly\, who was Miss Iowa 2013\, travels the U.S. talking with student groups and meeting with children with disabilities and their parents. Her credits include serving as the master of ceremonies at the Kennedy Center's commemoration of the 25th anniversary of the Americans with Disabilities Act.\n\nA graduate of the University of Nebraska\, where she majored in theater management\, she recently completed a master's degree in broadcast journalism at Northwestern University's Medill School of Journalism.\n\nHer talk is sponsored by Augustana's Center for the Study of Ethics and the Institute for Leadership and Service.\n
URL;VALUE=URI:https://www.augustana.edu/about-us/events/2018/being-disabled-does-not-mean-being-unable
SUMMARY:Being Disabled Does Not Mean Being Unable!
DTSTART:20180921T003000Z
END:VEVENT
END:VCALENDAR
