BEGIN:VCALENDAR
VERSION:2.0
PRODID:-//hacksw/handcal//NONSGML v1.0//EN
CALSCALE:GREGORIAN
BEGIN:VEVENT
DTEND:20211113T150000Z
UID: 69e83b0ba4909
DTSTAMP:20260421T220547Z
LOCATION:Carver P.E. Center
DESCRIPTION:High school seniors are invited to participate in an academic&nbsp\;Departmental Open House and Scholarship Competition.&nbsp\;\n\nMore than 30 academic departments from 90 majors and other programs will host students as they learn&nbsp\;about a chosen program and compete for more than $500\,000 in departmental scholarships. Scholarship winners are awarded $4\,000 ($1\,000/year for four years).\n\nRegistration is required and will open in late summer. Or\, see the&nbsp\;Visit page&nbsp\;for signup information when available.\n
URL;VALUE=URI:https://www.augustana.edu/about-us/events/2021/departmental-open-house
SUMMARY:Departmental Open House and Scholarship Competition
DTSTART:20211113T150000Z
END:VEVENT
END:VCALENDAR
