BEGIN:VCALENDAR
VERSION:2.0
PRODID:-//hacksw/handcal//NONSGML v1.0//EN
CALSCALE:GREGORIAN
BEGIN:VEVENT
DTEND:20191014T133000Z
UID: 69e8a8bed7200
DTSTAMP:20260422T055350Z
LOCATION:The Gerber Center for Student Life
DESCRIPTION:Viking Visits offer expanded programming\, campus tours and an optional admissions interview.\n\nThis year's dates are Monday\, Oct.&nbsp\;14 (Columbus Day) and Monday\, Nov.&nbsp\;11 (Veteran's Day).\n\nExplore campus and learn about the admissions process.&nbsp\;Get an introduction into the many ways CORE (Careers\, Opportunities\, Research and Exploration) can help guide your Augustana experience.\n\n• RSVP for Oct. 14\n\n• RSVP for Nov. 11\n\nViking Visits include the&nbsp\;Opportunities Fair\, with representatives from Admissions\, Financial Aid\, Athletics\, Music\, Residential Life\, CORE\, Office of Student Inclusion and Diversity\, Office of Student Life and Leadership\, Augustana Bookstore and the Office of the Dean of Students.\n\nSchedule&nbsp\;\n\n\n	\n		\n			8:30 a.m\n			Admissions interviews (optional\, for those who pre-registered)\n		\n		\n			9:30 a.m.\n			Check-in and Opportunities Fair at the Gerber Center for Student Life\, 3435 9 1/2 Ave\n		\n		\n			10:00 a.m.\n			Welcome and overview of the admissions process\n		\n		\n			10:30 a.m.\n			Campus tour\n		\n		\n			11:45 a.m.\n			Lunch (complimentary for visiting students\, $5 for each additional person)\n		\n		\n			12:45 p.m.\n			Careers\, Opportunities\, Research and Exploration (CORE) session\n		\n		\n			1:15 p.m.\n			Wrap-up reception with Admissions\n		\n		\n			1:30 p.m.\n			Admissions interviews (optional\, for those who pre-registered) &nbsp\;\n		\n	\n\n
URL;VALUE=URI:https://www.augustana.edu/about-us/events/2019/viking-visit-day-october
SUMMARY:Viking Visit Day 
DTSTART:20191014T133000Z
END:VEVENT
END:VCALENDAR
