BEGIN:VCALENDAR
VERSION:2.0
PRODID:-//hacksw/handcal//NONSGML v1.0//EN
CALSCALE:GREGORIAN
BEGIN:VEVENT
DTEND:20180929T140000Z
UID: 69e8a6d8a23eb
DTSTAMP:20260422T054544Z
LOCATION:Carver P.E. Center
DESCRIPTION:High school students are invited to&nbsp\;a special&nbsp\;Fall Visit Day&nbsp\;at Augustana.\n\n•&nbsp\;Register today!\n\nExplore more than 60 Augustana programs at the Opportunities Fair.\n\nGet an in-depth introduction to an academic program\, led by an Augustana professor.&nbsp\;\n\nConnect with your admissions counselor and find out tips about scholarships and applying.\n\nFall Visit Day schedule\n\n9 a.m. — Check-in at Roy J. Carver P.E. Center\, 3500 5th Ave\, Rock Island\, Ill.\n9-10 a.m. — Augie Opportunities Fair and continental breakfast\n10:15 a.m. — Welcome\n11 a.m. — Academic session\n11:45 a.m.-2 p.m. — Admissions and scholarship process\, campus tour and lunch (Lunch is complimentary for visiting students\; $5 for each additional person)\n1:30-2 p.m. — Wrap-up reception with Admissions\n\nOther visit opportunities\n\nViking Visits&nbsp\;with expanded programming and tours are available Oct. 8\, 17 and Nov. 12.\n
URL;VALUE=URI:https://www.augustana.edu/about-us/events/2018/fall-visit-day
SUMMARY:Fall Visit Day
DTSTART:20180929T140000Z
END:VEVENT
END:VCALENDAR
