BEGIN:VCALENDAR
VERSION:2.0
PRODID:-//hacksw/handcal//NONSGML v1.0//EN
CALSCALE:GREGORIAN
BEGIN:VEVENT
DTEND:20180902T181500Z
UID: 69e8a887e6943
DTSTAMP:20260422T055255Z
LOCATION:Modern Woodmen Park
DESCRIPTION:Seven Quad Cities institutions of higher learning are teaming up to show the cumulative value and strength that colleges and universities provide the greater QC community.\n\nAs part of this initiative\, Augustana College will join with the Quad City River Bandits and partner schools Black Hawk College\, Eastern Iowa Community Colleges\, Palmer College of Chiropractic\, Saint Ambrose\, Trinity College of Nursing &amp\; Health Sciences and Western Illinois University to host a QC Colleges Day.\n\nAugustana alumni and students are encouraged to come out in their school colors for the Bandits’&nbsp\;1:15 p.m.&nbsp\;meeting with the Peoria Chiefs.&nbsp\;\n\nQC Colleges Day at the Ballpark is one of several aspects of this initiative\, which is being presented in partnership with the Quad City Chamber of Commerce QC2030 initiative.\n
URL;VALUE=URI:https://www.augustana.edu/about-us/events/2018/qc-colleges-day-ballpark
SUMMARY:QC Colleges Day at the Ballpark
DTSTART:20180902T181500Z
END:VEVENT
END:VCALENDAR
