BEGIN:VCALENDAR
VERSION:2.0
PRODID:-//hacksw/handcal//NONSGML v1.0//EN
CALSCALE:GREGORIAN
BEGIN:VEVENT
DTEND:20180816T150000Z
UID: 69e8a7cb8b8a1
DTSTAMP:20260422T054947Z
LOCATION:
DESCRIPTION:Students and families are invited to open houses from 10 a.m.-noon&nbsp\;at the Augustana College Teaching Museum of Art in Centennial Hall\, Thomas Tredway Library\, The Gerber Center\, Hanson Hall of Science\, Brunner Theatre Center\, Carlsson Evald Hall\, Old Main and the Fryxell Geology Museum in the Swenson Hall of Geosciences.\n&nbsp\;\n
URL;VALUE=URI:https://www.augustana.edu/about-us/events/2018/welcome-week-open-houses
SUMMARY:Welcome Week open houses
DTSTART:20180816T150000Z
END:VEVENT
END:VCALENDAR
