BEGIN:VCALENDAR
VERSION:2.0
PRODID:-//hacksw/handcal//NONSGML v1.0//EN
CALSCALE:GREGORIAN
BEGIN:VEVENT
DTEND:20191208T200000Z
UID: 69e8aaee25eb9
DTSTAMP:20260422T060310Z
LOCATION:Centennial Hall
DESCRIPTION:The Augustana Symphony Orchestra joins the Augustana Brass Ensemble\, Ascension Ringers\, Augustana Choir\, Augustana Concert Chorale and Jenny Lind Vocal Ensemble in a celebration of the holiday season.&nbsp\;\n\nProgram\n\nSerge Prokofiev\, Kije’s wedding and troika from "Lt. Kije"\nLeroy Anderson\, "Sleigh Ride"\nGary Fry\, "A Christmas Gloria"\nDan Forrest\, "See\, amid the winter’s snow"\nJohn Rutter\, "Shepherd’s Pipe Carol"\nMack Wilberg\, "Joy to the World"\nDavid Willcocks\, "Carols"\n
URL;VALUE=URI:https://www.augustana.edu/about-us/events/2019/christmas-augustana8
SUMMARY:Christmas at Augustana
DTSTART:20191208T200000Z
END:VEVENT
END:VCALENDAR
