BEGIN:VCALENDAR
VERSION:2.0
PRODID:-//hacksw/handcal//NONSGML v1.0//EN
CALSCALE:GREGORIAN
BEGIN:VEVENT
DTEND:20161208T010000Z
UID: 69e9499f72a57
DTSTAMP:20260422T172015Z
LOCATION:Carver P.E. Center
DESCRIPTION:The Augustana Vikings will take on the Wheaton Thunder.\n\nFans can&nbsp\;see the game online&nbsp\;and view live stats.\n\nWebsite:&nbsp\;http://www.athletics.augustana.edu/index.aspx?path=mbball\n
URL;VALUE=URI:https://www.augustana.edu/about-us/events/2016/mens-basketball-vs-wheaton
SUMMARY:Men's basketball vs. Wheaton
DTSTART:20161208T010000Z
END:VEVENT
END:VCALENDAR
