BEGIN:VCALENDAR
VERSION:2.0
PRODID:-//hacksw/handcal//NONSGML v1.0//EN
CALSCALE:GREGORIAN
BEGIN:VEVENT
DTEND:20161207T020000Z
UID: 69e96306acd4f
DTSTAMP:20260422T190838Z
LOCATION:Wallenberg Hall
DESCRIPTION:The Augustana Flute Choir and Heart Strings will perform.\n
URL;VALUE=URI:https://www.augustana.edu/about-us/events/2016/flute-choir-and-heart-strings-celtic-quartet
SUMMARY:Flute Choir and Heart Strings Celtic Quartet
DTSTART:20161207T020000Z
END:VEVENT
END:VCALENDAR
