BEGIN:VCALENDAR
VERSION:2.0
PRODID:-//hacksw/handcal//NONSGML v1.0//EN
CALSCALE:GREGORIAN
BEGIN:VEVENT
DTEND:20190518T210000Z
UID: 69e8b1d717d8f
DTSTAMP:20260422T063239Z
LOCATION:Centennial Hall
DESCRIPTION:The Augustana Symphony Orchestra\, Augustana Symphonic Band and Augustana Choir will offer a&nbsp\;musical celebration of the 2018-2019 year as part of commencement weekend.\n\nProgram\n\nAugustana Symphonic Band\, Tony Oliver\, guest conductor\n\nLauds (Praise High Day) (1992) —&nbsp\;Ron Nelson (b. 1929)\n\nEquus (2000) — Eric Whitacre (b. 1970)\n\nDance of the Jesters (1873) — Peter I. Tchaikovsky (1840-1893) trans. Ray E. Cramer\n\nAugustana Symphony Orchestra\, Daniel Chetel\, conductor\n\nUpbeat! (1999) — Ellen Taaffe Zwilich (b. 1939)\n\nOverture to Die Fledermaus (1874) — Johann Strauss\, Jr. (1825-1899)\n\nHuapango (1941) — José Pablo Moncayo (1912-1958)\n\nAugustana Choir\, Jon Hurty\, conductor\n\nMorning to Night — Reggel György Ligeti (1923-2006)&nbsp\;\n\nAfternoon on a Hill — Eric William Barnum (b. 1979)&nbsp\;\n\nO Schöne Nacht —&nbsp\;Johannes Brahms (1833-1897)&nbsp\;\n\nLullaby — Daniel Elder (b. 1986)&nbsp\;\n\nTwo Love Songs: Amor De Mi Alma (unknown) — Z. Randall Stroope (b. 1953)\; and The Passionate Shepherd to His Love — P.D.Q. Bach (1742-1807)\n
URL;VALUE=URI:https://www.augustana.edu/about-us/events/2018/augustana-music-festival
SUMMARY:Augustana Music Festival
DTSTART:20190518T210000Z
END:VEVENT
END:VCALENDAR
