BEGIN:VCALENDAR
VERSION:2.0
PRODID:-//hacksw/handcal//NONSGML v1.0//EN
CALSCALE:GREGORIAN
BEGIN:VEVENT
DTEND:20191208T000000Z
UID: 69e8b158de3ea
DTSTAMP:20260422T063032Z
LOCATION:Denkmann Memorial Building
DESCRIPTION:Latinx Unidos will present the annual Tribute to Our Lady of Guadalupe with music and&nbsp\;dance.\n\nChurros and hot chocolate will be served\n\nThe day celebrates the&nbsp\;appearance of the Virgin Mary&nbsp\;to Juan Diego in Mexico.\n
URL;VALUE=URI:https://www.augustana.edu/about-us/events/2019/tribute-our-lady-guadalupe
SUMMARY:Tribute to Our Lady of Guadalupe
DTSTART:20191208T000000Z
END:VEVENT
END:VCALENDAR
