BEGIN:VCALENDAR
VERSION:2.0
PRODID:-//hacksw/handcal//NONSGML v1.0//EN
CALSCALE:GREGORIAN
BEGIN:VEVENT
DTEND:20190211T013000Z
UID: 69e8b192d4212
DTSTAMP:20260422T063130Z
LOCATION:Centennial Hall
DESCRIPTION:Grayson Dixon will&nbsp\;perform a recital on the cello. He is a senior from Bailey\, Colo.\, majoring in instrumental music performance and neuroscience.\n
URL;VALUE=URI:https://www.augustana.edu/about-us/events/2019/grayson-dixon-cello
SUMMARY:Grayson Dixon\, cello
DTSTART:20190211T013000Z
END:VEVENT
END:VCALENDAR
