BEGIN:VCALENDAR
VERSION:2.0
PRODID:-//hacksw/handcal//NONSGML v1.0//EN
CALSCALE:GREGORIAN
BEGIN:VEVENT
DTEND:20230315T000000Z
UID: 69ed0e5606662
DTSTAMP:20260425T135622Z
LOCATION:Denkmann Memorial Building
DESCRIPTION:The Augustana Flute Choir\, student ensembles\, and string quartet will perform.\n
URL;VALUE=URI:https://www.augustana.edu/about-us/events/2023/st-patricks-day-concert
SUMMARY:St. Patrick's Day Concert
DTSTART:20230315T000000Z
END:VEVENT
END:VCALENDAR
