BEGIN:VCALENDAR
VERSION:2.0
PRODID:-//hacksw/handcal//NONSGML v1.0//EN
CALSCALE:GREGORIAN
BEGIN:VEVENT
DTEND:20230503T003000Z
UID: 69e8b0ce27134
DTSTAMP:20260422T062814Z
LOCATION:Denkmann Memorial Building
DESCRIPTION:The Augustana Flute and Clarinet Choir concert will feature selections using all the flute family: piccolo\, flute\, alto flute&nbsp\;and bass.\n
URL;VALUE=URI:https://www.augustana.edu/about-us/events/2023/flute-and-clarinet-choir-concert
SUMMARY:Flute and Clarinet Choir concert
DTSTART:20230503T003000Z
END:VEVENT
END:VCALENDAR
