BEGIN:VCALENDAR
VERSION:2.0
PRODID:-//hacksw/handcal//NONSGML v1.0//EN
CALSCALE:GREGORIAN
BEGIN:VEVENT
DTEND:20190504T210000Z
UID: 69e8b192ae337
DTSTAMP:20260422T063130Z
LOCATION:Centennial Hall
DESCRIPTION:The Augustana Concert Chorale\, Jenny Lind Vocal Ensemble and the Academic Choir will perform. Four seniors will be conducting.\n
URL;VALUE=URI:https://www.augustana.edu/about-us/events/2018/spring-choral-concert
SUMMARY:Spring Choral Concert
DTSTART:20190504T210000Z
END:VEVENT
END:VCALENDAR
