BEGIN:VCALENDAR
VERSION:2.0
PRODID:-//hacksw/handcal//NONSGML v1.0//EN
CALSCALE:GREGORIAN
BEGIN:VEVENT
DTEND:20190504T000000Z
UID: 69e8b16d6848c
DTSTAMP:20260422T063053Z
LOCATION:Centennial Hall
DESCRIPTION:The Augustana Jazz Ensemble will perform its final concert of the year. The concert will feature arrangements and compositions by two of today's&nbsp\; prominent jazz writers\; Alan Baylock and Gordon Goodwin. The concert&nbsp\; also will&nbsp\;feature Joseph Ott as soloist on Alan Baylock's "El Abrazo."\n&nbsp\;\n
URL;VALUE=URI:https://www.augustana.edu/about-us/events/2018/augustana-jazz-ensemble-concert
SUMMARY:Augustana Jazz Ensemble Concert
DTSTART:20190504T000000Z
END:VEVENT
END:VCALENDAR
