BEGIN:VCALENDAR
VERSION:2.0
PRODID:-//hacksw/handcal//NONSGML v1.0//EN
CALSCALE:GREGORIAN
BEGIN:VEVENT
DTEND:20190202T010000Z
UID: 69e8b11808ba3
DTSTAMP:20260422T062928Z
LOCATION:Centennial Hall
DESCRIPTION:The Augustana Jazz Ensemble concert will focus on Latin music in jazz\, with vocalist Stephie Benito. She is a junior from Mundelein\, Ill.\, majoring in teaching Spanish.\n\nProgram\n\n“Latin Adventures”\nJoseph Ott\, Director\n\nUno Mas — Paul Lopez\nMomcat Mambo — Michael Philip Mossman\nVolare — Modugno and Parish Arr: Collins\nThe Girl From Ipanema — Jobim \, Moraes\, &amp\; Gimbel Arr: Holmes\n\nMambo #5 — Perez Prado Arr: Ott\nMambo #8 — Perez Prado Arr: Ott\nCrystal Silence — Chick Corea Arr: Mike Tomaro\nChega De Saudade — Jobim \, Moraes\, Hendricks and Cavanaugh Arr: Taylor\n\nMambo Italiano — Bob Merrill Trans: Collins\nLa Fiesta — Michael Philip Mossman\n\nAugustana Jazz Ensemble\n\nSaxophones:\nLexie Aguilar\nMelissa Hagerty\nKendall Hengst\nSpencer Mason\nMegan Gabler\n\nTrumpets:\nAuden Meal\nNick Mueller\nAndre Rivera\nZachariah Sperstad\nAllison Rodwell\n\nTrombones:\nBethan Hobart\nLucas Case\nLuke McMillan\nAnthony Roldan\n\nRhythm Section:\nAlex Michalak-piano\nKellen Myers-piano\nAriane Omerza-percussion\nIvan Starenko-guitar\nDouglas Ganster-bass\nHarrison Phillis-drum set\nStephie Benito-vocals\n
URL;VALUE=URI:https://www.augustana.edu/about-us/events/2018/augustana-jazz-ensemble-latin-music
SUMMARY:Augustana Jazz Ensemble: Latin music
DTSTART:20190202T010000Z
END:VEVENT
END:VCALENDAR
