BEGIN:VCALENDAR
VERSION:2.0
PRODID:-//hacksw/handcal//NONSGML v1.0//EN
CALSCALE:GREGORIAN
BEGIN:VEVENT
DTEND:20180916T000000Z
UID: 69e8b12ad9be9
DTSTAMP:20260422T062946Z
LOCATION:
DESCRIPTION:Saxophonist and composer Nick Zoulek\, guest artist at the&nbsp\;Shockingly Modern Saxophone Festival\, will perform.\n\nZoulek’s debut album\, “Rushing Past Willow” in 2016\, won praise from reviewers. “Zoulek’s performance\, on saxophones in every range\, is stunningly virtuosic\, whatever the genre\,” said the Wall Street Journal.\n\nHe has a bachelor’s in music performance from the University of Wisconsin-Whitewater and has served on the faculty there teaching saxophone and jazz studies. &nbsp\;\n\nZoukek holds a master of music performance degree from Bowling Green State University and is pursuing a doctor of musical arts degree in contemporary music performance there. He also has a music certificate from the Conservatoire à Rayonnement Régionale de Boulogne-Billancourt.\n
URL;VALUE=URI:https://www.augustana.edu/about-us/events/2018/shockingly-modern-saxophone-festival-nick-zoulek
SUMMARY:Shockingly Modern Saxophone Festival: Nick Zoulek
DTSTART:20180916T000000Z
END:VEVENT
END:VCALENDAR
