BEGIN:VCALENDAR
VERSION:2.0
PRODID:-//hacksw/handcal//NONSGML v1.0//EN
CALSCALE:GREGORIAN
BEGIN:VEVENT
DTEND:20180915T003000Z
UID: 69e8b12aa226f
DTSTAMP:20260422T062946Z
LOCATION:
DESCRIPTION:Dr. Randall Hall\, Augustana associate professor of music\, will perform a sax recital at the Shockingly Modern Saxophone Festival.\n\nHe has recorded on several labels and his compositions are published on Reed Music. In addition to saxophone Dr. Hall also teaches improvisation\, music theory\, electronic music\, and co-directs Augustana’s summer session in Paris.&nbsp\;\n\nProgram\n\nAberamenthōoulerthexanaxethreluoōthnemareba — Randall Hall (b. 1969)\nAlto saxophone and electronic sounds\n\nDeeper areas of Consciousness — Randall Hall\nFixed media\nWorld premiere\n\nAn Arc in Solitude — Mark Engebretson (b. 1964)\nNick Zoulek\, alto saxophone\n\nWound — Randall Hall\nAlto saxophone\, elctronic sounds\, and video\nAsh\nWound\nScar\nFragile\nWorld Premiere\n&nbsp\;\n\nThe festival continues Saturday:\n\n3 p.m.: &nbsp\;Improvisation workshop with guest artist Nick Zoulek\n4 p.m.: &nbsp\;Recital by the Augustana Saxophone Studio\n5 p.m.: &nbsp\;Discussion of modern music\, an interview and Q&amp\;A with Zoulek\n7 p.m.:&nbsp\; Nick Zoulek recital\n
URL;VALUE=URI:https://www.augustana.edu/about-us/events/2018/shockingly-modern-saxophone-festival-randall-hall
SUMMARY:Shockingly Modern Saxophone Festival: Randall Hall
DTSTART:20180915T003000Z
END:VEVENT
END:VCALENDAR
