BEGIN:VCALENDAR
VERSION:2.0
PRODID:-//hacksw/handcal//NONSGML v1.0//EN
CALSCALE:GREGORIAN
BEGIN:VEVENT
DTEND:20211002T000000Z
UID: 69e8b178cce8d
DTSTAMP:20260422T063104Z
LOCATION:Centennial Hall
DESCRIPTION:The coronation of the Augustana College&nbsp\;King and Queen&nbsp\;will take place\, followed by the Sing Competition.\n
URL;VALUE=URI:https://www.augustana.edu/about-us/events/2021/homecoming-coronation-and-sing
SUMMARY:Homecoming Coronation and Sing
DTSTART:20211002T000000Z
END:VEVENT
END:VCALENDAR
