BEGIN:VCALENDAR
VERSION:2.0
PRODID:-//hacksw/handcal//NONSGML v1.0//EN
CALSCALE:GREGORIAN
BEGIN:VEVENT
DTEND:20180826T010000Z
UID: 69e8b1c238204
DTSTAMP:20260422T063218Z
LOCATION:Centennial Hall
DESCRIPTION:The Chicago-based Second City improv troupe will perform a night of comedy.&nbsp\;Augustana students\, faculty and staff get in free with ID and do not have to purchase a ticket in advance.&nbsp\; ID's will be checked at the door.\n\nMature content: subject matter may not be appropriate for children.\n
URL;VALUE=URI:https://www.augustana.edu/about-us/events/2018/second-city
SUMMARY:Second City
DTSTART:20180826T010000Z
END:VEVENT
END:VCALENDAR
