BEGIN:VCALENDAR
VERSION:2.0
PRODID:-//hacksw/handcal//NONSGML v1.0//EN
CALSCALE:GREGORIAN
BEGIN:VEVENT
DTEND:20190206T013000Z
UID: 69e8b7e4f4207
DTSTAMP:20260422T065828Z
LOCATION:
DESCRIPTION:The student recital will feature music on piano\, violin\, cello\, bass trombone\, flute\, trombone and&nbsp\;piccolo\, with faculty accompanists Sheila Doak\,&nbsp\;Charles Schmidt and Gail Baldwin.\n\nProgram\n\nSentimental Waltz in A major\, D.779\; Franz Schubert (1797-1828)\nClaudette Rosario\, piano\n\nFour Romantic Pieces for Violin and Piano\; Antonin Dvorak (1841-1904)\nI. Allegro moderato\nAllessandra West\, violin\n\nSospiri\, Op. 70\; Edward Elgar (1857-1934)\nJeana Brown\, cello\nAlex Michalek\, piano\n\nElegy Alfred Bartles (1930-2006)\nAnthony Roldan\, bass trombone\n\nSicilienne et Burlesque pour Flute et Piano\; Alfredo Casella (1883-1947)\nBecky Bieber\, flute\n\nConcertino in E-flat major\, Op. 4\; Ferdinand David (1810-1873)\nAllegro maestoso-Andante Marica Funebre\nEric Tabaka\, trombone\n\nConcerto in C major\, F.VI\, No. 4\; Antonio Vivaldi (1678-1741)\nII. Largo\nIII. Allegro molto\nAinslie Lounsbury\, piccolo\n\nElegy\, Op. 24\; Gabriel Faure (1845-1924)\nOlivia Banach\, cello\n\nVers la Source Dans le Bois\;&nbsp\;Marcel Tournier (1879-1951)\nJenna Dolan\, harp\n\nConcerto in One Movement\; Alexander Lebedev (1924-1993)\nCurtis Marek\, tuba\nGail Baldwin\, piano\n\nString Quartet No.1\, Op. 49\; Dmitri Shostakovich (1906-1975) I. Moderato\nAllessandra West\, violin\nSarah Anderson\, violin\nSabrina Tiangco\, viola\nGrayson Dixon\, cello\n\nFantasia for Euphonium and Piano\; Gordon Jacob (1895-1984)\nCarmella Russell\, euphonium\nSheila Doak\, piano\n
URL;VALUE=URI:https://www.augustana.edu/about-us/events/2018/student-instrumental-recital
SUMMARY:Student instrumental recital
DTSTART:20190206T013000Z
END:VEVENT
END:VCALENDAR
