BEGIN:VCALENDAR
VERSION:2.0
PRODID:-//hacksw/handcal//NONSGML v1.0//EN
CALSCALE:GREGORIAN
BEGIN:VEVENT
DTEND:20181115T013000Z
UID: 69e8b7cb120a5
DTSTAMP:20260422T065803Z
LOCATION:Carver P.E. Center
DESCRIPTION:Augustana will open the dual meet portion of its wrestling&nbsp\;season&nbsp\;with a home match against defending College Conference of Illinois &amp\; Wisconsin champion North Central.\n\nThe men's wrestling team will compete with North Central College in the first home match of the season.\n\nThe match will be live-streamed.\n
URL;VALUE=URI:https://www.augustana.edu/about-us/events/2018/mens-wrestling-vs-north-central
SUMMARY:Men's Wrestling vs. North Central
DTSTART:20181115T013000Z
END:VEVENT
END:VCALENDAR
