BEGIN:VCALENDAR
VERSION:2.0
PRODID:-//hacksw/handcal//NONSGML v1.0//EN
CALSCALE:GREGORIAN
BEGIN:VEVENT
DTEND:20190921T140000Z
UID: 69e8b7bac9eb2
DTSTAMP:20260422T065746Z
LOCATION:Brunner Theatre Center
DESCRIPTION:Families of Augustana students are invited&nbsp\;on campus to spend time with their student from&nbsp\;Sept. 21-22. Highlights of Family Weekend include activities such as family photos\, the Vikings football game\, and a river cruise along the Mississippi.\n
URL;VALUE=URI:https://www.augustana.edu/about-us/events/2019/family-weekend
SUMMARY:Family Weekend
DTSTART:20190921T140000Z
END:VEVENT
END:VCALENDAR
