BEGIN:VCALENDAR
VERSION:2.0
PRODID:-//hacksw/handcal//NONSGML v1.0//EN
CALSCALE:GREGORIAN
BEGIN:VEVENT
DTEND:20190207T010000Z
UID: 69e8b7babc35c
DTSTAMP:20260422T065746Z
LOCATION:Carver P.E. Center
DESCRIPTION:The men's basketball team will play Wheaton College at home.\n\nWheaton (16-6\, 9-4)\, currently is in third place in the CCIW. The Vikings are&nbsp\;&nbsp\;20-2 on the season and 12-1 in the conference\,\n
URL;VALUE=URI:https://www.augustana.edu/about-us/events/2018/mens-basketball-vs-wheaton
SUMMARY:Men's basketball vs. Wheaton
DTSTART:20190207T010000Z
END:VEVENT
END:VCALENDAR
