BEGIN:VCALENDAR
VERSION:2.0
PRODID:-//hacksw/handcal//NONSGML v1.0//EN
CALSCALE:GREGORIAN
BEGIN:VEVENT
DTEND:20190203T010000Z
UID: 69e8c98f21a17
DTSTAMP:20260422T081351Z
LOCATION:Carver P.E. Center
DESCRIPTION:The men's basketball team will go against North Park University at home.\n
URL;VALUE=URI:https://www.augustana.edu/about-us/events/2018/mens-basketball-vs-north-park
SUMMARY:Men's Basketball vs. North Park
DTSTART:20190203T010000Z
END:VEVENT
END:VCALENDAR
