BEGIN:VCALENDAR
VERSION:2.0
PRODID:-//hacksw/handcal//NONSGML v1.0//EN
CALSCALE:GREGORIAN
BEGIN:VEVENT
DTEND:20190124T010000Z
UID: 69e8c919dc016
DTSTAMP:20260422T081153Z
LOCATION:Carver P.E. Center
DESCRIPTION:The Vikings' men's basketball team will play the Elmhurst College Bluejays.\n\n• Watch it live\n
URL;VALUE=URI:https://www.augustana.edu/about-us/events/2018/mens-basketball-vs-elmhurst
SUMMARY:Men's basketball vs. Elmhurst
DTSTART:20190124T010000Z
END:VEVENT
END:VCALENDAR
