BEGIN:VCALENDAR
VERSION:2.0
PRODID:-//hacksw/handcal//NONSGML v1.0//EN
CALSCALE:GREGORIAN
BEGIN:VEVENT
DTEND:20180906T000000Z
UID: 69e8c8a4ce51b
DTSTAMP:20260422T080956Z
LOCATION:Thorson-Lucken Field
DESCRIPTION:The men's soccer team will go against Robert Morris University at home.\n
URL;VALUE=URI:https://www.augustana.edu/about-us/events/2018/mens-soccer-vs-robert-morris
SUMMARY:Men's Soccer vs. Robert Morris
DTSTART:20180906T000000Z
END:VEVENT
END:VCALENDAR
