BEGIN:VCALENDAR
VERSION:2.0
PRODID:-//hacksw/handcal//NONSGML v1.0//EN
CALSCALE:GREGORIAN
BEGIN:VEVENT
DTEND:20180903T000000Z
UID: 69e8c5836f97d
DTSTAMP:20260422T075635Z
LOCATION:Thorson-Lucken Field
DESCRIPTION:The Vikings men's soccer team will play against Coe College in the first home game of the season.\n\nThe game will be live-streamed.\n
URL;VALUE=URI:https://www.augustana.edu/about-us/events/2018/mens-soccer-vs-coe
SUMMARY:Men's soccer vs. Coe
DTSTART:20180903T000000Z
END:VEVENT
END:VCALENDAR
