BEGIN:VCALENDAR
VERSION:2.0
PRODID:-//hacksw/handcal//NONSGML v1.0//EN
CALSCALE:GREGORIAN
BEGIN:VEVENT
DTEND:20180906T000000Z
UID: 69e8c9cd6c01c
DTSTAMP:20260422T081453Z
LOCATION:Carver P.E. Center
DESCRIPTION:The Women's Volleyball Team will go against the University of Dubuque in the first home game of the season.\n
URL;VALUE=URI:https://www.augustana.edu/about-us/events/2018/womens-volleyball-vs-dubuque
SUMMARY:Women's Volleyball vs. Dubuque
DTSTART:20180906T000000Z
END:VEVENT
END:VCALENDAR
