BEGIN:VCALENDAR
VERSION:2.0
PRODID:-//hacksw/handcal//NONSGML v1.0//EN
CALSCALE:GREGORIAN
BEGIN:VEVENT
DTEND:20180905T210000Z
UID: 69e8c8bc08d9d
DTSTAMP:20260422T081020Z
LOCATION:Tennis Courts
DESCRIPTION:The Women's Tennis Team will go against North Park University at home in the first home game of the season.&nbsp\;\n
URL;VALUE=URI:https://www.augustana.edu/about-us/events/2018/womens-tennis-vs-north-central
SUMMARY:Women's Tennis vs. North Central
DTSTART:20180905T210000Z
END:VEVENT
END:VCALENDAR
