BEGIN:VCALENDAR
VERSION:2.0
PRODID:-//hacksw/handcal//NONSGML v1.0//EN
CALSCALE:GREGORIAN
BEGIN:VEVENT
DTEND:20181018T000000Z
UID: 69e8c851701c5
DTSTAMP:20260422T080833Z
LOCATION:Thorson-Lucken Field
DESCRIPTION:The Women's Soccer Team will go against Illinois Wesleyan University at home.\n
URL;VALUE=URI:https://www.augustana.edu/about-us/events/2018/womens-soccer-vs-illinois-wesleyan
SUMMARY:Women's Soccer vs. Illinois Wesleyan
DTSTART:20181018T000000Z
END:VEVENT
END:VCALENDAR
