BEGIN:VCALENDAR
VERSION:2.0
PRODID:-//hacksw/handcal//NONSGML v1.0//EN
CALSCALE:GREGORIAN
BEGIN:VEVENT
DTEND:20180911T220000Z
UID: 69e8c86c77c27
DTSTAMP:20260422T080900Z
LOCATION:Thorson-Lucken Field
DESCRIPTION:The Augustana women's soccer squad will play Coe College at home. Fans can watch the match online.\n\nThe Vikings are 4-0 on the year after defeating the Belles of St. Mary's Saturday.\n
URL;VALUE=URI:https://www.augustana.edu/about-us/events/2018/womens-soccer-vs-coe
SUMMARY:Women's soccer vs. Coe
DTSTART:20180911T220000Z
END:VEVENT
END:VCALENDAR
